BEGIN:VCALENDAR
VERSION:2.0
PRODID:stackoverflow.com
CALSCALE:GREGORIAN
METHOD:PUBLISH
BEGIN:VTIMEZONE
TZID:Canada/Toronto
BEGIN:STANDARD
TZOFFSETTO:+0100
TZOFFSETFROM:+0100
END:STANDARD
END:VTIMEZONE
BEGIN:VEVENT
DTSTART;TZID=Canada/Toronto:20260427T093000
DTEND;TZID=Canada/Toronto:20260427T150000
SUMMARY:Atelier sur l'enveloppe thermique
LOCATION:
DESCRIPTION:Événement d'AluQuébec: Atelier sur l'enveloppe thermique
PRIORITY:3
END:VEVENT
END:VCALENDAR
